BEGIN:VCALENDAR
VERSION:2.0
PRODID:-//https://willendorf.at//NONSGML kigkonsult.se iCalcreator 2.29.29/
 /
CALSCALE:GREGORIAN
METHOD:PUBLISH
UID:abad1c2c-075d-4764-a86d-912bf1f4b1ac
X-WR-CALNAME:JCal Pro Kalender
X-WR-CALDESC:Ihr Online-Terminkalender
X-WR-TIMEZONE:UTC
BEGIN:VTIMEZONE
TZID:UTC
END:VTIMEZONE
BEGIN:VEVENT
UID:20180616T080000UTC-3479sCmV9r@https://www.willendorf.at/
DTSTAMP:20260423T145224Z
CATEGORIES:Sportverein
DTSTART:20180616T080000Z
DTEND:20180616T090000Z
SUMMARY:Hobbyturnier
URL:https://willendorf.at/kalender/32-sportverein/300-hobbyturnier
END:VEVENT
END:VCALENDAR
