BEGIN:VCALENDAR
VERSION:2.0
PRODID:-//https://willendorf.at//NONSGML kigkonsult.se iCalcreator 2.29.29/
 /
CALSCALE:GREGORIAN
METHOD:PUBLISH
UID:6f402682-0d72-425c-8939-4575a01892fe
X-WR-CALNAME:JCal Pro Kalender
X-WR-CALDESC:Ihr Online-Terminkalender
X-WR-TIMEZONE:UTC
BEGIN:VTIMEZONE
TZID:UTC
END:VTIMEZONE
BEGIN:VEVENT
UID:20190616T000000UTC-2292LjmCwv@https://www.willendorf.at/
DTSTAMP:20260421T095712Z
CATEGORIES:Pensionisten
DTSTART:20190616T000000Z
DTEND:20190620T000000Z
SUMMARY:Urlaub Altenmarkt Pensionisten
URL:https://willendorf.at/kalender/37-pensionisten/345-urlaub-altenmarkt-pe
 nsionisten
END:VEVENT
BEGIN:VEVENT
UID:20190705T000000UTC-7693WdFTSk@https://www.willendorf.at/
DTSTAMP:20260421T095712Z
CATEGORIES:Pensionisten
DTSTART:20190705T000000Z
DTEND:20190705T000000Z
SUMMARY:Weinheuriger Pensionisten
URL:https://willendorf.at/kalender/37-pensionisten/347-weinheuriger-pension
 isten
END:VEVENT
BEGIN:VEVENT
UID:20190807T000000UTC-1455O3cAgv@https://www.willendorf.at/
DTSTAMP:20260421T095712Z
CATEGORIES:Pensionisten
DESCRIPTION:<p>nach Fischbach</p>
DTSTART:20190807T000000Z
DTEND:20190807T000000Z
SUMMARY:Ausflug Pensionisten
URL:https://willendorf.at/kalender/37-pensionisten/351-ausflug-pensionisten
X-ALT-DESC;FMTTYPE=TEXT/HTML:<p>nach Fischbach</p>
END:VEVENT
BEGIN:VEVENT
UID:20190904T000000UTC-38993WOAw8@https://www.willendorf.at/
DTSTAMP:20260421T095712Z
CATEGORIES:Pensionisten
DTSTART:20190904T000000Z
DTEND:20190904T000000Z
SUMMARY:Wandertag Pensionisten
URL:https://willendorf.at/kalender/37-pensionisten/353-wandertag-pensionist
 en
END:VEVENT
BEGIN:VEVENT
UID:20191015T000000UTC-7042noPMoi@https://www.willendorf.at/
DTSTAMP:20260421T095712Z
CATEGORIES:Pensionisten
DESCRIPTION:<p>Donauturm</p>
DTSTART:20191015T000000Z
DTEND:20191015T000000Z
SUMMARY:Ausflug Pensionisten Wien
URL:https://willendorf.at/kalender/37-pensionisten/358-ausflug-pensionisten
 -wien
X-ALT-DESC;FMTTYPE=TEXT/HTML:<p>Donauturm</p>
END:VEVENT
BEGIN:VEVENT
UID:20191111T000000UTC-8901ipLI8J@https://www.willendorf.at/
DTSTAMP:20260421T095712Z
CATEGORIES:Pensionisten
DTSTART:20191111T000000Z
DTEND:20191111T010000Z
SUMMARY:Wandertag Pensionisten
URL:https://willendorf.at/kalender/37-pensionisten/359-wandertag-pensionist
 en
END:VEVENT
BEGIN:VEVENT
UID:20191208T000000UTC-1063XrN5sx@https://www.willendorf.at/
DTSTAMP:20260421T095712Z
CATEGORIES:Pensionisten
DTSTART:20191208T000000Z
DTEND:20191208T000000Z
SUMMARY:Weihnachtsfeier Pensionisten
URL:https://willendorf.at/kalender/37-pensionisten/363-weihnachtsfeier-pens
 ionisten
END:VEVENT
BEGIN:VEVENT
UID:20200510T080000UTC-6536C3uslF@https://www.willendorf.at/
DTSTAMP:20260421T095712Z
CATEGORIES:Pensionisten
DTSTART:20200510T000000Z
DTEND:20200510T235959Z
SUMMARY:Wandertag - Pensionisten
URL:https://willendorf.at/kalender/37-pensionisten/389-wandertag-pensionist
 en
END:VEVENT
BEGIN:VEVENT
UID:20200706T140000UTC-6734vPssZM@https://www.willendorf.at/
DTSTAMP:20260421T095712Z
CATEGORIES:Pensionisten
DTSTART:20200706T000000Z
DTEND:20200706T235959Z
SUMMARY:Ausflug Perlmuttfabrik - Pensionisten
URL:https://willendorf.at/kalender/37-pensionisten/394-ausflug-perlmuttfabr
 ik-pensionisten
END:VEVENT
BEGIN:VEVENT
UID:20200910T140000UTC-3960tjWdUo@https://www.willendorf.at/
DTSTAMP:20260421T095712Z
CATEGORIES:Pensionisten
DTSTART:20200910T000000Z
DTEND:20200910T235959Z
SUMMARY:Kloster Neuberg - Ausflug Pensionisten
URL:https://willendorf.at/kalender/37-pensionisten/399-kloster-neuberg-ausf
 lug-pensionisten
END:VEVENT
BEGIN:VEVENT
UID:20200917T140000UTC-1666gnnwEk@https://www.willendorf.at/
DTSTAMP:20260421T095712Z
CATEGORIES:Pensionisten
DTSTART:20200917T000000Z
DTEND:20200917T235959Z
SUMMARY:Wandertag - Pensionisten
URL:https://willendorf.at/kalender/37-pensionisten/401-wandertag-pensionist
 en
END:VEVENT
BEGIN:VEVENT
UID:20201022T140000UTC-8074cRN0AV@https://www.willendorf.at/
DTSTAMP:20260421T095712Z
CATEGORIES:Pensionisten
DTSTART:20201022T000000Z
DTEND:20201022T235959Z
SUMMARY:Straßenbahnmuseum - Ausflug Pensionisten
URL:https://willendorf.at/kalender/37-pensionisten/404-strassenbahnmuseum-a
 usflug-pensionisten
END:VEVENT
BEGIN:VEVENT
UID:20201117T150000UTC-0087wnZRUt@https://www.willendorf.at/
DTSTAMP:20260421T095712Z
CATEGORIES:Pensionisten
DTSTART:20201117T000000Z
DTEND:20201117T235959Z
SUMMARY:Wandertag - Pensionisten
URL:https://willendorf.at/kalender/37-pensionisten/408-wandertag-pensionist
 en
END:VEVENT
END:VCALENDAR
