BEGIN:VCALENDAR
VERSION:2.0
PRODID:-//https://willendorf.at//NONSGML kigkonsult.se iCalcreator 2.29.29/
 /
CALSCALE:GREGORIAN
METHOD:PUBLISH
UID:f40494cc-546e-4159-8a4b-ca3b3d1009ad
X-WR-CALNAME:JCal Pro Kalender
X-WR-CALDESC:Ihr Online-Terminkalender
X-WR-TIMEZONE:UTC
BEGIN:VTIMEZONE
TZID:UTC
END:VTIMEZONE
BEGIN:VEVENT
UID:20200601T110000UTC-0828pMxepn@https://www.willendorf.at/
DTSTAMP:20260423T225645Z
CATEGORIES:Allgemein
DTSTART:20200601T110000Z
DTEND:20200601T120000Z
SUMMARY:Pfingstfrühschoppen im GH Handler
URL:https://willendorf.at/kalender/25-allgemein/390-pfingstfruehschoppen-im
 -gh-handler
END:VEVENT
END:VCALENDAR
