BEGIN:VCALENDAR
VERSION:2.0
PRODID:-//https://willendorf.at//NONSGML kigkonsult.se iCalcreator 2.29.29/
 /
CALSCALE:GREGORIAN
METHOD:PUBLISH
UID:f590df51-6103-4b89-95b5-99fa9fdedcf3
X-WR-CALNAME:JCal Pro Kalender
X-WR-CALDESC:Ihr Online-Terminkalender
X-WR-TIMEZONE:UTC
BEGIN:VTIMEZONE
TZID:UTC
END:VTIMEZONE
BEGIN:VEVENT
UID:20200620T140000UTC-95694t5edI@https://www.willendorf.at/
DTSTAMP:20260422T084446Z
CATEGORIES:FF-Willendorf
DTSTART:20200620T140000Z
DTEND:20200620T140000Z
SUMMARY:Blaulichttag 140 Jahr FF Willendorf mit Sonnwendfeuer
URL:https://willendorf.at/kalender/28-ff-willendorf/392-blaulichttag-140-ja
 hr-ff-willendorf-mit-sonnwendfeuer
END:VEVENT
BEGIN:VEVENT
UID:20200620T140000UTC-61210a6duW@https://www.willendorf.at/
DTSTAMP:20260422T084446Z
CATEGORIES:Sportverein
DTSTART:20200620T000000Z
DTEND:20200620T235959Z
SUMMARY:Hobbyturnier am Sportplatz
URL:https://willendorf.at/kalender/32-sportverein/393-hobbyturnier-am-sport
 platz
END:VEVENT
END:VCALENDAR
