BEGIN:VCALENDAR
VERSION:2.0
PRODID:-//https://willendorf.at//NONSGML kigkonsult.se iCalcreator 2.29.29/
 /
CALSCALE:GREGORIAN
METHOD:PUBLISH
UID:abfe609e-b925-4641-859d-6578308b2048
X-WR-CALNAME:JCal Pro Kalender
X-WR-CALDESC:Ihr Online-Terminkalender
X-WR-TIMEZONE:UTC
BEGIN:VTIMEZONE
TZID:UTC
END:VTIMEZONE
BEGIN:VEVENT
UID:20190705T000000UTC-7693WdFTSk@https://www.willendorf.at/
DTSTAMP:20260419T211753Z
CATEGORIES:Pensionisten
DTSTART:20190705T000000Z
DTEND:20190705T000000Z
SUMMARY:Weinheuriger Pensionisten
URL:https://willendorf.at/kalender/37-pensionisten/347-weinheuriger-pension
 isten
END:VEVENT
BEGIN:VEVENT
UID:20190706T000000UTC-2987HVSU5x@https://www.willendorf.at/
DTSTAMP:20260419T211753Z
CATEGORIES:Kirche
DTSTART:20190706T000000Z
DTEND:20190706T000000Z
SUMMARY:Pfarrausflug
URL:https://willendorf.at/kalender/29-kirche/348-pfarrausflug
END:VEVENT
BEGIN:VEVENT
UID:20190713T153000UTC-1687FOwe5B@https://www.willendorf.at/
DTSTAMP:20260419T211753Z
CATEGORIES:Allgemein
DESCRIPTION:<p style='text-align: left\;'>Autoren des literarischen Stammti
 sches Neunkirchen lesen:</p>\n<p style='text-align: left\;'>Lyrik\, Prosa\
 , Heiteres und Besinnliches<br /><br />Eintritt frei</p>\n<p>&nbsp\;</p>
DTSTART:20190713T153000Z
DTEND:20190713T153000Z
SUMMARY:Lesung im Skulpturengarten Gerhartl
URL:https://willendorf.at/kalender/25-allgemein/375-lesung-im-skulpturengar
 ten-gerhartl
X-ALT-DESC;FMTTYPE=TEXT/HTML:<p style='text-align: left\;'>Autoren des lite
 rarischen Stammtisches Neunkirchen lesen:</p>\n<p style='text-align: left\
 ;'>Lyrik\, Prosa\, Heiteres und Besinnliches<br /><br />Eintritt frei</p>
 \n<p>&nbsp\;</p>
END:VEVENT
BEGIN:VEVENT
UID:20190718T000000UTC-4627vf8N3W@https://www.willendorf.at/
DTSTAMP:20260419T211753Z
CATEGORIES:Sportverein
DTSTART:20190718T000000Z
DTEND:20190720T163700Z
SUMMARY:Turnier SV Willendorf
URL:https://willendorf.at/kalender/32-sportverein/350-turnier-sv-willendorf
END:VEVENT
END:VCALENDAR
